BEGIN:VCALENDAR
VERSION:2.0
PRODID:-//Paul Leger Quilts - ECPv6.15.20//NONSGML v1.0//EN
CALSCALE:GREGORIAN
METHOD:PUBLISH
X-WR-CALNAME:Paul Leger Quilts
X-ORIGINAL-URL:https://paullegerquilts.com
X-WR-CALDESC:Events for Paul Leger Quilts
REFRESH-INTERVAL;VALUE=DURATION:PT1H
X-Robots-Tag:noindex
X-PUBLISHED-TTL:PT1H
BEGIN:VTIMEZONE
TZID:America/Toronto
BEGIN:DAYLIGHT
TZOFFSETFROM:-0500
TZOFFSETTO:-0400
TZNAME:EDT
DTSTART:20250309T070000
END:DAYLIGHT
BEGIN:STANDARD
TZOFFSETFROM:-0400
TZOFFSETTO:-0500
TZNAME:EST
DTSTART:20251102T060000
END:STANDARD
BEGIN:DAYLIGHT
TZOFFSETFROM:-0500
TZOFFSETTO:-0400
TZNAME:EDT
DTSTART:20260308T070000
END:DAYLIGHT
BEGIN:STANDARD
TZOFFSETFROM:-0400
TZOFFSETTO:-0500
TZNAME:EST
DTSTART:20261101T060000
END:STANDARD
BEGIN:DAYLIGHT
TZOFFSETFROM:-0500
TZOFFSETTO:-0400
TZNAME:EDT
DTSTART:20270314T070000
END:DAYLIGHT
BEGIN:STANDARD
TZOFFSETFROM:-0400
TZOFFSETTO:-0500
TZNAME:EST
DTSTART:20271107T060000
END:STANDARD
END:VTIMEZONE
BEGIN:VEVENT
DTSTART;TZID=America/Toronto:20260324T190000
DTEND;TZID=America/Toronto:20260324T220000
DTSTAMP:20260423T141511
CREATED:20251222T031028Z
LAST-MODIFIED:20251222T031028Z
UID:489-1774378800-1774389600@paullegerquilts.com
SUMMARY:Trunk Show
DESCRIPTION:Trunk Show \nMarch 24\, 2027\, 7pm \nNewmarket\, On \nRegion of York Quilt Guild \nRegion of York Quilters Guild – Home
URL:https://paullegerquilts.com/event/trunk-show/
END:VEVENT
BEGIN:VEVENT
DTSTART;TZID=America/Toronto:20260325T090000
DTEND;TZID=America/Toronto:20260325T160000
DTSTAMP:20260423T141511
CREATED:20251222T031339Z
LAST-MODIFIED:20251222T031609Z
UID:491-1774429200-1774454400@paullegerquilts.com
SUMMARY:Workshop TBD
DESCRIPTION:Workshop TBD \nMarch 25\, 2027\, 9am – 4 pm \nNewmarket\, On \nRegion of York Quilt Guild \nRegion of York Quilters Guild – Home
URL:https://paullegerquilts.com/event/workshop-tbd/
END:VEVENT
END:VCALENDAR