BEGIN:VCALENDAR
VERSION:2.0
PRODID:-//Paul Leger Quilts - ECPv6.15.20//NONSGML v1.0//EN
CALSCALE:GREGORIAN
METHOD:PUBLISH
X-WR-CALNAME:Paul Leger Quilts
X-ORIGINAL-URL:https://paullegerquilts.com
X-WR-CALDESC:Events for Paul Leger Quilts
REFRESH-INTERVAL;VALUE=DURATION:PT1H
X-Robots-Tag:noindex
X-PUBLISHED-TTL:PT1H
BEGIN:VTIMEZONE
TZID:America/Toronto
BEGIN:DAYLIGHT
TZOFFSETFROM:-0500
TZOFFSETTO:-0400
TZNAME:EDT
DTSTART:20250309T070000
END:DAYLIGHT
BEGIN:STANDARD
TZOFFSETFROM:-0400
TZOFFSETTO:-0500
TZNAME:EST
DTSTART:20251102T060000
END:STANDARD
BEGIN:DAYLIGHT
TZOFFSETFROM:-0500
TZOFFSETTO:-0400
TZNAME:EDT
DTSTART:20260308T070000
END:DAYLIGHT
BEGIN:STANDARD
TZOFFSETFROM:-0400
TZOFFSETTO:-0500
TZNAME:EST
DTSTART:20261101T060000
END:STANDARD
BEGIN:DAYLIGHT
TZOFFSETFROM:-0500
TZOFFSETTO:-0400
TZNAME:EDT
DTSTART:20270314T070000
END:DAYLIGHT
BEGIN:STANDARD
TZOFFSETFROM:-0400
TZOFFSETTO:-0500
TZNAME:EST
DTSTART:20271107T060000
END:STANDARD
END:VTIMEZONE
BEGIN:VEVENT
DTSTART;VALUE=DATE:20260628
DTEND;VALUE=DATE:20260702
DTSTAMP:20260423T195419
CREATED:20251222T030833Z
LAST-MODIFIED:20251222T030833Z
UID:487-1782604800-1782950399@paullegerquilts.com
SUMMARY:Bernina University
DESCRIPTION:Bernina University \nJune 28 – July 1\, 2026 \nNew Orleans\, LA
URL:https://paullegerquilts.com/event/bernina-university/
END:VEVENT
BEGIN:VEVENT
DTSTART;TZID=America/Toronto:20260926T080000
DTEND;TZID=America/Toronto:20260929T170000
DTSTAMP:20260423T195419
CREATED:20250818T034112Z
LAST-MODIFIED:20250818T034112Z
UID:468-1790409600-1790701200@paullegerquilts.com
SUMMARY:Great Alberta Bagineer Getaway
DESCRIPTION:
URL:https://paullegerquilts.com/event/great-alberta-bagineer-getaway/
LOCATION:Great Alberta Bagineer Getaway – UhOh Creations\, Stony Plane\, Alberta\, Canada
END:VEVENT
END:VCALENDAR