BEGIN:VCALENDAR
VERSION:2.0
PRODID:-//Paul Leger Quilts - ECPv6.15.20//NONSGML v1.0//EN
CALSCALE:GREGORIAN
METHOD:PUBLISH
X-WR-CALNAME:Paul Leger Quilts
X-ORIGINAL-URL:https://paullegerquilts.com
X-WR-CALDESC:Events for Paul Leger Quilts
REFRESH-INTERVAL;VALUE=DURATION:PT1H
X-Robots-Tag:noindex
X-PUBLISHED-TTL:PT1H
BEGIN:VTIMEZONE
TZID:America/Toronto
BEGIN:DAYLIGHT
TZOFFSETFROM:-0500
TZOFFSETTO:-0400
TZNAME:EDT
DTSTART:20240310T070000
END:DAYLIGHT
BEGIN:STANDARD
TZOFFSETFROM:-0400
TZOFFSETTO:-0500
TZNAME:EST
DTSTART:20241103T060000
END:STANDARD
BEGIN:DAYLIGHT
TZOFFSETFROM:-0500
TZOFFSETTO:-0400
TZNAME:EDT
DTSTART:20250309T070000
END:DAYLIGHT
BEGIN:STANDARD
TZOFFSETFROM:-0400
TZOFFSETTO:-0500
TZNAME:EST
DTSTART:20251102T060000
END:STANDARD
BEGIN:DAYLIGHT
TZOFFSETFROM:-0500
TZOFFSETTO:-0400
TZNAME:EDT
DTSTART:20260308T070000
END:DAYLIGHT
BEGIN:STANDARD
TZOFFSETFROM:-0400
TZOFFSETTO:-0500
TZNAME:EST
DTSTART:20261101T060000
END:STANDARD
BEGIN:DAYLIGHT
TZOFFSETFROM:-0500
TZOFFSETTO:-0400
TZNAME:EDT
DTSTART:20270314T070000
END:DAYLIGHT
BEGIN:STANDARD
TZOFFSETFROM:-0400
TZOFFSETTO:-0500
TZNAME:EST
DTSTART:20271107T060000
END:STANDARD
END:VTIMEZONE
BEGIN:VEVENT
DTSTART;VALUE=DATE:20260504
DTEND;VALUE=DATE:20260509
DTSTAMP:20260423T200126
CREATED:20251222T030236Z
LAST-MODIFIED:20251222T030236Z
UID:482-1777852800-1778284799@paullegerquilts.com
SUMMARY:h+h Americas
DESCRIPTION:May 4 to 8\, 2026 \nChicago\, IL
URL:https://paullegerquilts.com/event/hh-americas/
LOCATION:Chicago\, IL\, United States
END:VEVENT
BEGIN:VEVENT
DTSTART;TZID=America/Toronto:20260325T090000
DTEND;TZID=America/Toronto:20260325T160000
DTSTAMP:20260423T200126
CREATED:20251222T031339Z
LAST-MODIFIED:20251222T031609Z
UID:491-1774429200-1774454400@paullegerquilts.com
SUMMARY:Workshop TBD
DESCRIPTION:Workshop TBD \nMarch 25\, 2027\, 9am – 4 pm \nNewmarket\, On \nRegion of York Quilt Guild \nRegion of York Quilters Guild – Home
URL:https://paullegerquilts.com/event/workshop-tbd/
END:VEVENT
BEGIN:VEVENT
DTSTART;TZID=America/Toronto:20260324T190000
DTEND;TZID=America/Toronto:20260324T220000
DTSTAMP:20260423T200126
CREATED:20251222T031028Z
LAST-MODIFIED:20251222T031028Z
UID:489-1774378800-1774389600@paullegerquilts.com
SUMMARY:Trunk Show
DESCRIPTION:Trunk Show \nMarch 24\, 2027\, 7pm \nNewmarket\, On \nRegion of York Quilt Guild \nRegion of York Quilters Guild – Home
URL:https://paullegerquilts.com/event/trunk-show/
END:VEVENT
BEGIN:VEVENT
DTSTART;TZID=America/Toronto:20251028T120000
DTEND;TZID=America/Toronto:20251102T120000
DTSTAMP:20260423T200126
CREATED:20250709T205444Z
LAST-MODIFIED:20250709T205444Z
UID:406-1761652800-1762084800@paullegerquilts.com
SUMMARY:Men's Quilting Retreat
DESCRIPTION:
URL:https://paullegerquilts.com/event/mens-quilting-retreat/
LOCATION:Lake George\, NY\, NY\, United States
ORGANIZER;CN="Paul Leger":MAILTO:paullegerquilts@gmail.com
END:VEVENT
BEGIN:VEVENT
DTSTART;TZID=America/Toronto:20251020T080000
DTEND;TZID=America/Toronto:20251020T170000
DTSTAMP:20260423T200126
CREATED:20250818T034834Z
LAST-MODIFIED:20250818T034834Z
UID:474-1760947200-1760979600@paullegerquilts.com
SUMMARY:Presenting Trunk Show\, Etobicoke Quilter’s Guild
DESCRIPTION:
URL:https://paullegerquilts.com/event/presenting-trunk-show-etobicoke-quilters-guild/
LOCATION:Etobicoke Quilter’s Guild\, Neilson Park Creative Centre\, ON\, Canada
END:VEVENT
BEGIN:VEVENT
DTSTART;TZID=America/Toronto:20251003T080000
DTEND;TZID=America/Toronto:20251005T170000
DTSTAMP:20260423T200126
CREATED:20250818T034400Z
LAST-MODIFIED:20250818T034400Z
UID:471-1759478400-1759683600@paullegerquilts.com
SUMMARY:Gem Sewing Quilting Retreat
DESCRIPTION:
URL:https://paullegerquilts.com/event/gem-sewing-quilting-retreat/
LOCATION:New Liskeard\, ON
END:VEVENT
END:VCALENDAR